BEGIN:VCALENDAR
VERSION:2.0
PRODID:-//Eventin//Event Calendar//EN
CALSCALE:GREGORIAN
METHOD:PUBLISH
BEGIN:VEVENT
UID:c50dc46365c1423de6ec51e3a84ade89@avocado-center.si
SUMMARY:Poletna joga
DESCRIPTION:Poletje je čas\, ko se lahko bolj posvetimo sebi.\nV Avocado c
 entru zato ne prenehamo z jogijsko prakso\, pač pa se enkrat tedensko ob p
 oletnih večerih\, srečujemo v prijetno ohlajeni in dišeči dvorani.\nTud
 i to poletje ne bo drugače. Začenjamo junija in zaključujemo nekje sredi
  septembra.\nCena posameznega obiska je 15 evrov\, cena 4ih zaporednih obis
 kov pa 55 evrov. \nSe veselimo skupnih poletnih trenutkov.
LOCATION:Avocado center
DTSTAMP:20260424T134455Z
DTSTART:20260423T170000Z
DTEND:20260603T181500Z
END:VEVENT
END:VCALENDAR
